BEGIN:VCALENDAR
VERSION:2.0
PRODID:-//Claire Suire - ECPv6.15.20//NONSGML v1.0//EN
CALSCALE:GREGORIAN
METHOD:PUBLISH
X-WR-CALNAME:Claire Suire
X-ORIGINAL-URL:https://claire-suire.com
X-WR-CALDESC:Évènements pour Claire Suire
REFRESH-INTERVAL;VALUE=DURATION:PT1H
X-Robots-Tag:noindex
X-PUBLISHED-TTL:PT1H
BEGIN:VTIMEZONE
TZID:Europe/Paris
BEGIN:DAYLIGHT
TZOFFSETFROM:+0100
TZOFFSETTO:+0200
TZNAME:CEST
DTSTART:20250330T010000
END:DAYLIGHT
BEGIN:STANDARD
TZOFFSETFROM:+0200
TZOFFSETTO:+0100
TZNAME:CET
DTSTART:20251026T010000
END:STANDARD
BEGIN:DAYLIGHT
TZOFFSETFROM:+0100
TZOFFSETTO:+0200
TZNAME:CEST
DTSTART:20260329T010000
END:DAYLIGHT
BEGIN:STANDARD
TZOFFSETFROM:+0200
TZOFFSETTO:+0100
TZNAME:CET
DTSTART:20261025T010000
END:STANDARD
BEGIN:DAYLIGHT
TZOFFSETFROM:+0100
TZOFFSETTO:+0200
TZNAME:CEST
DTSTART:20270328T010000
END:DAYLIGHT
BEGIN:STANDARD
TZOFFSETFROM:+0200
TZOFFSETTO:+0100
TZNAME:CET
DTSTART:20271031T010000
END:STANDARD
BEGIN:DAYLIGHT
TZOFFSETFROM:+0100
TZOFFSETTO:+0200
TZNAME:CEST
DTSTART:20280326T010000
END:DAYLIGHT
BEGIN:STANDARD
TZOFFSETFROM:+0200
TZOFFSETTO:+0100
TZNAME:CET
DTSTART:20281029T010000
END:STANDARD
END:VTIMEZONE
BEGIN:VEVENT
DTSTART;TZID=Europe/Paris:20260501T090000
DTEND;TZID=Europe/Paris:20260503T163000
DTSTAMP:20260420T045835
CREATED:20250705T073341Z
LAST-MODIFIED:20251128T143612Z
UID:7669-1777626000-1777825800@claire-suire.com
SUMMARY:M3 : Usage du médium dessin-centré en Art-Phonie®
DESCRIPTION:450
URL:https://claire-suire.com/calendrier/m3-m3-usage-du-medium-dessin-centre-en-art-phonie-lieu-a-definir/
LOCATION:à Crest\, Crest
END:VEVENT
BEGIN:VEVENT
DTSTART;TZID=Europe/Paris:20260704T090000
DTEND;TZID=Europe/Paris:20260711T163000
DTSTAMP:20260420T045835
CREATED:20250605T052333Z
LAST-MODIFIED:20251128T143525Z
UID:7648-1783155600-1783787400@claire-suire.com
SUMMARY:M10 : Arts-sensoriels et pleine conscience - Le grand stage d'été
DESCRIPTION:Lieu à définir
URL:https://claire-suire.com/calendrier/m10-arts-sensoriels-et-pleine-conscience-le-grand-stage-dete/
LOCATION:à Crest\, Crest
END:VEVENT
BEGIN:VEVENT
DTSTART;TZID=Europe/Paris:20260918T090000
DTEND;TZID=Europe/Paris:20260920T163000
DTSTAMP:20260420T045835
CREATED:20250705T073738Z
LAST-MODIFIED:20251128T143434Z
UID:7672-1789722000-1789921800@claire-suire.com
SUMMARY:M5 : L'Art-Phonie® chez l'enfant en maternelle : l'usage du dessin centré
DESCRIPTION:450
URL:https://claire-suire.com/calendrier/m5-lart-phonie-chez-lenfant-en-maternelle-lusage-du-dessin-centre-lieu-a-definir/
LOCATION:à Crest\, Crest
END:VEVENT
BEGIN:VEVENT
DTSTART;TZID=Europe/Paris:20261002T090000
DTEND;TZID=Europe/Paris:20261004T163000
DTSTAMP:20260420T045835
CREATED:20250605T052953Z
LAST-MODIFIED:20251128T142939Z
UID:7650-1790931600-1791131400@claire-suire.com
SUMMARY:M1 :  Usage du médium peinture en Art-Phonie®
DESCRIPTION:
URL:https://claire-suire.com/calendrier/m1-usage-du-medium-peinture-en-art-phonie-3/
LOCATION:à Crest\, Crest
END:VEVENT
BEGIN:VEVENT
DTSTART;TZID=Europe/Paris:20261016T090000
DTEND;TZID=Europe/Paris:20261018T163000
DTSTAMP:20260420T045835
CREATED:20260323T061257Z
LAST-MODIFIED:20260323T061258Z
UID:7748-1792141200-1792341000@claire-suire.com
SUMMARY:M13 :  De l'utilisation du médium argile en Art-Phonie®
DESCRIPTION:
URL:https://claire-suire.com/calendrier/m13-de-lutilisation-du-medium-argile-en-art-phonie/
LOCATION:à Crest\, Crest
END:VEVENT
BEGIN:VEVENT
DTSTART;TZID=Europe/Paris:20261030T090000
DTEND;TZID=Europe/Paris:20261101T163000
DTSTAMP:20260420T045835
CREATED:20260411T064410Z
LAST-MODIFIED:20260411T064411Z
UID:7751-1793350800-1793550600@claire-suire.com
SUMMARY:M1 :  Usage du médium peinture en Art-Phonie®
DESCRIPTION:
URL:https://claire-suire.com/calendrier/m1-usage-du-medium-peinture-en-art-phonie/
LOCATION:NANTES\, NANTES\, France
END:VEVENT
BEGIN:VEVENT
DTSTART;TZID=Europe/Paris:20261112T090000
DTEND;TZID=Europe/Paris:20261114T163000
DTSTAMP:20260420T045835
CREATED:20260112T132903Z
LAST-MODIFIED:20260205T065341Z
UID:7732-1794474000-1794673800@claire-suire.com
SUMMARY:M12 : L'animation d'un groupe - L'art de ritualiser une séance ou un atelier
DESCRIPTION:
URL:https://claire-suire.com/calendrier/m12-lanimation-dun-groupe-lart-de-ritualiser-une-seance-ou-un-atelier/
LOCATION:Bussigny\, SUISSES\, Rue des Collèges 2\, BUSSIGNY\, 1030\, Switzerland
END:VEVENT
BEGIN:VEVENT
DTSTART;TZID=Europe/Paris:20261204T090000
DTEND;TZID=Europe/Paris:20261206T163000
DTSTAMP:20260420T045835
CREATED:20260112T133626Z
LAST-MODIFIED:20260112T133627Z
UID:7735-1796374800-1796574600@claire-suire.com
SUMMARY:Regroupement de supervision
DESCRIPTION:450
URL:https://claire-suire.com/calendrier/regroupement-de-supervision/
LOCATION:à Crest\, Crest
END:VEVENT
BEGIN:VEVENT
DTSTART;TZID=Europe/Paris:20261211T090000
DTEND;TZID=Europe/Paris:20261213T163000
DTSTAMP:20260420T045835
CREATED:20250626T163442Z
LAST-MODIFIED:20251128T142854Z
UID:7662-1796979600-1797179400@claire-suire.com
SUMMARY:M4 : Premiers entretiens\, le cadre de travail en Art-Phonie®
DESCRIPTION:450
URL:https://claire-suire.com/calendrier/m4-premiers-entretiens-le-cadre-de-travail-en-art-phonie-lieu-a-definir-2/
LOCATION:en visio\, Visio
END:VEVENT
BEGIN:VEVENT
DTSTART;TZID=Europe/Paris:20270122T090000
DTEND;TZID=Europe/Paris:20270124T163000
DTSTAMP:20260420T045835
CREATED:20250605T053909Z
LAST-MODIFIED:20260411T065713Z
UID:7654-1800608400-1800808200@claire-suire.com
SUMMARY:M2 : Usage du médium collage en Art-Phonie®
DESCRIPTION:
URL:https://claire-suire.com/calendrier/m2-usage-du-medium-collage-en-art-phonie-lieu-a-definir/
LOCATION:à Crest\, Crest
END:VEVENT
END:VCALENDAR